BEGIN:VCALENDAR
VERSION:2.0
PRODID:-//Big Sky Economic Development - ECPv6.15.20//NONSGML v1.0//EN
CALSCALE:GREGORIAN
METHOD:PUBLISH
X-WR-CALNAME:Big Sky Economic Development
X-ORIGINAL-URL:https://bigskyeconomicdevelopment.org
X-WR-CALDESC:Events for Big Sky Economic Development
REFRESH-INTERVAL;VALUE=DURATION:PT1H
X-Robots-Tag:noindex
X-PUBLISHED-TTL:PT1H
BEGIN:VTIMEZONE
TZID:America/Denver
BEGIN:DAYLIGHT
TZOFFSETFROM:-0700
TZOFFSETTO:-0600
TZNAME:MDT
DTSTART:20250309T090000
END:DAYLIGHT
BEGIN:STANDARD
TZOFFSETFROM:-0600
TZOFFSETTO:-0700
TZNAME:MST
DTSTART:20251102T080000
END:STANDARD
BEGIN:DAYLIGHT
TZOFFSETFROM:-0700
TZOFFSETTO:-0600
TZNAME:MDT
DTSTART:20260308T090000
END:DAYLIGHT
BEGIN:STANDARD
TZOFFSETFROM:-0600
TZOFFSETTO:-0700
TZNAME:MST
DTSTART:20261101T080000
END:STANDARD
BEGIN:DAYLIGHT
TZOFFSETFROM:-0700
TZOFFSETTO:-0600
TZNAME:MDT
DTSTART:20270314T090000
END:DAYLIGHT
BEGIN:STANDARD
TZOFFSETFROM:-0600
TZOFFSETTO:-0700
TZNAME:MST
DTSTART:20271107T080000
END:STANDARD
END:VTIMEZONE
BEGIN:VEVENT
DTSTART;TZID=America/Denver:20260421T090000
DTEND;TZID=America/Denver:20260421T110000
DTSTAMP:20260421T042013
CREATED:20260224T162100Z
LAST-MODIFIED:20260224T162507Z
UID:58507-1776762000-1776769200@bigskyeconomicdevelopment.org
SUMMARY:Elevate Your Business - Using AI in Your Business
DESCRIPTION:Artificial intelligence isn’t just for big companies with big budgets. This session breaks down how small businesses can use AI right now to save time\, reduce workload\, and improve everyday operations—without needing technical skills.  \nParticipants will learn practical\, low-risk ways to use AI for common business tasks like marketing content\, customer communication\, planning\, research\, and internal organization.
URL:https://bigskyeconomicdevelopment.org/event/balance-sheet-vs-profit-loss-3/
LOCATION:Big Sky Economic Development\, 201 North Broadway Ave\, Billings\, MT\, 59101\, United States
ATTACH;FMTTYPE=image/jpeg:https://bigskyeconomicdevelopment.org/wp-content/uploads/2026/02/All-Center-Statewide-Training-Image_april-22.jpg
END:VEVENT
END:VCALENDAR