BEGIN:VCALENDAR
VERSION:2.0
PRODID:-//Big Sky Economic Development - ECPv6.15.20//NONSGML v1.0//EN
CALSCALE:GREGORIAN
METHOD:PUBLISH
X-WR-CALNAME:Big Sky Economic Development
X-ORIGINAL-URL:https://bigskyeconomicdevelopment.org
X-WR-CALDESC:Events for Big Sky Economic Development
REFRESH-INTERVAL;VALUE=DURATION:PT1H
X-Robots-Tag:noindex
X-PUBLISHED-TTL:PT1H
BEGIN:VTIMEZONE
TZID:America/Denver
BEGIN:DAYLIGHT
TZOFFSETFROM:-0700
TZOFFSETTO:-0600
TZNAME:MDT
DTSTART:20240310T090000
END:DAYLIGHT
BEGIN:STANDARD
TZOFFSETFROM:-0600
TZOFFSETTO:-0700
TZNAME:MST
DTSTART:20241103T080000
END:STANDARD
BEGIN:DAYLIGHT
TZOFFSETFROM:-0700
TZOFFSETTO:-0600
TZNAME:MDT
DTSTART:20250309T090000
END:DAYLIGHT
BEGIN:STANDARD
TZOFFSETFROM:-0600
TZOFFSETTO:-0700
TZNAME:MST
DTSTART:20251102T080000
END:STANDARD
BEGIN:DAYLIGHT
TZOFFSETFROM:-0700
TZOFFSETTO:-0600
TZNAME:MDT
DTSTART:20260308T090000
END:DAYLIGHT
BEGIN:STANDARD
TZOFFSETFROM:-0600
TZOFFSETTO:-0700
TZNAME:MST
DTSTART:20261101T080000
END:STANDARD
END:VTIMEZONE
BEGIN:VEVENT
DTSTART;TZID=America/Denver:20251017T080000
DTEND;TZID=America/Denver:20251017T120000
DTSTAMP:20260421T024553
CREATED:20251008T163733Z
LAST-MODIFIED:20251009T173220Z
UID:57405-1760688000-1760702400@bigskyeconomicdevelopment.org
SUMMARY:B2B Reboot – Saratoga Springs\, UT
DESCRIPTION:Are you a Veteran or Military Spouse Recently Departed from the Service? \nCourse Objectives: \n\nTo assist participants in understanding the steps\, stages\, and activities related to launching and growing a business as a post-military career.\nTo help participants understand how business ownership might align (or not) with their own personal strength and life goals.\nTo provide introductory training and orientation to the fundamental tools and strategies associated with executing plans to launch a new business.
URL:https://bigskyeconomicdevelopment.org/event/b2b-reboot-eagle-mountain-ut/
LOCATION:Eagle Mountain Business Resource Center\, 3688 East Campus Dr. Ste. 101\, Eagle Mountain\, UT\, 84005\, United States
CATEGORIES:VBOC Event
ATTACH;FMTTYPE=image/png:https://bigskyeconomicdevelopment.org/wp-content/uploads/2025/10/Eagle-Mountain-SOCIAL-1.png
END:VEVENT
END:VCALENDAR